BEGIN:VCALENDAR
VERSION:2.0
PRODID:-//LSB Hamburg - ECPv6.15.20//NONSGML v1.0//EN
CALSCALE:GREGORIAN
METHOD:PUBLISH
X-WR-CALNAME:LSB Hamburg
X-ORIGINAL-URL:https://www.lsb-hamburg.de
X-WR-CALDESC:Veranstaltungen für LSB Hamburg
REFRESH-INTERVAL;VALUE=DURATION:PT1H
X-Robots-Tag:noindex
X-PUBLISHED-TTL:PT1H
BEGIN:VTIMEZONE
TZID:Europe/Berlin
BEGIN:DAYLIGHT
TZOFFSETFROM:+0100
TZOFFSETTO:+0200
TZNAME:CEST
DTSTART:20230326T010000
END:DAYLIGHT
BEGIN:STANDARD
TZOFFSETFROM:+0200
TZOFFSETTO:+0100
TZNAME:CET
DTSTART:20231029T010000
END:STANDARD
BEGIN:DAYLIGHT
TZOFFSETFROM:+0100
TZOFFSETTO:+0200
TZNAME:CEST
DTSTART:20240331T010000
END:DAYLIGHT
BEGIN:STANDARD
TZOFFSETFROM:+0200
TZOFFSETTO:+0100
TZNAME:CET
DTSTART:20241027T010000
END:STANDARD
BEGIN:DAYLIGHT
TZOFFSETFROM:+0100
TZOFFSETTO:+0200
TZNAME:CEST
DTSTART:20250330T010000
END:DAYLIGHT
BEGIN:STANDARD
TZOFFSETFROM:+0200
TZOFFSETTO:+0100
TZNAME:CET
DTSTART:20251026T010000
END:STANDARD
END:VTIMEZONE
BEGIN:VEVENT
DTSTART;TZID=Europe/Berlin:20241209T100000
DTEND;TZID=Europe/Berlin:20241209T120000
DTSTAMP:20260424T143441
CREATED:20241206T111112Z
LAST-MODIFIED:20241206T111434Z
UID:3675-1733738400-1733745600@www.lsb-hamburg.de
SUMMARY:Seniorendelegiertenversammlung Hamburg-Nord "Die Hamburger Koordinationsstelle für Wohn-Pflege-Gemeinschaften"
DESCRIPTION:Seniorendelegiertenversammlung Hamburg-Nord \nDie Hamburger Koordinationsstelle für Wohn-Pflege-Gemeinschaften\, Referent: Tillmann Hauenstein \nEinladung SDV-Nord 09.12.24
URL:https://www.lsb-hamburg.de/event/seniorendelegiertenversammlung-hamburg-nord/
LOCATION:Berzirksamt Hamburg-Nord (Großer Saal)\, Robert-Koch-Str. 17\, Hamburg\, 20249
END:VEVENT
BEGIN:VEVENT
DTSTART;TZID=Europe/Berlin:20241209T103000
DTEND;TZID=Europe/Berlin:20241209T123000
DTSTAMP:20260424T143441
CREATED:20241128T064149Z
LAST-MODIFIED:20241128T064417Z
UID:3650-1733740200-1733747400@www.lsb-hamburg.de
SUMMARY:Seniorendelegiertenversammlung Hamburg-Mitte "Anhörung von Kandidat*innen zur Bürgerschaftswahl am 2. März 2025 zu senior*innenpolitischen Themen"
DESCRIPTION:Seniorendelegiertenversammlung Hamburg-Mitte \nThemen u.a. „Anhörung von Kandidat*innen (CDU\, FDP\, GRÜNE\, LINKE\, SPD) zur Bürgerschaftswahl am 2. März 2025 zu senior*innenpolitischen Themen“ \nEinladung SDV-Mitte 09.12.24
URL:https://www.lsb-hamburg.de/event/seniorendelegiertenversammlung-hamburg-mitte-anhoerung-von-kandidatinnen-zur-buergerschaftswahl-am-2-maerz-2025-zu-seniorinnenpolitischen-themen/
LOCATION:Sitzungssaal der Bezirksversammlung\, Caffamacherreihe 1-3\, 20355 Hamburg\, 11. OG
END:VEVENT
BEGIN:VEVENT
DTSTART;TZID=Europe/Berlin:20241210T100000
DTEND;TZID=Europe/Berlin:20241210T120000
DTSTAMP:20260424T143441
CREATED:20240919T085731Z
LAST-MODIFIED:20241121T070939Z
UID:3559-1733824800-1733832000@www.lsb-hamburg.de
SUMMARY:Öffentliche Plenumssitzung des BSB-Wandsbek - Themen u.a. "Probleme bei der täglichen Postzustellung" und "Angekündigte Schließung der meisten Postfilialen im Bezirk..."
DESCRIPTION:Öffentliche Plenumssitzung des BSB-Wandsbek \nDienstag\, 10. Dezember 2024 um 10 Uhr\nOrt: Bürgersaal Wandsbek\, Am Alten Posthaus 4 (gegenüber dem Bezirksamt\, Nähe U-Bahn und ZOB Wandsbek Markt). \nHauptthemen:\n-> Probleme bei der täglichen Postzustellung in bestimmten Bereichen des Bezirks Wandsbek und\n-> angekündigte Schließung der meisten Postfilialen im Bezirk und die dafür von der Post geplanten Ersatzangebote\nReferent: Herr Thorn Schütt\, Regionaler Politikbeauftragter der Deutschen Post \nInteressierte Gäste können persönlich im Sitzungsraum oder auch digital per ZOOM-Videokonferenz an den öffentlichen Sitzungen im Bürgersaal Wandsbek teilnehmen.\nBitte schicken Sie uns eine E-Mail oder rufen Sie uns an\, wenn Sie digital an unseren Sitzungen teilnehmen möchten. Wir schicken Ihnen dann die Zugangsdaten und eine kurze Anleitung\, wie Sie sich zuschalten können.\nAuch für alle sonstige Fragen und Anregungen stehen wir Ihnen natürlich gern zur Verfügung. \nSo erreichen Sie uns:\nTelefon: 040 – 750 690 03 (Anrufbeantworter\, wir rufen zurück)\nE-Mail: BSB-Wandsbek@t-online.de \n 
URL:https://www.lsb-hamburg.de/event/oeffentliche-plenumssitzung-des-bsb-wandsbek-2/
LOCATION:Bürgersaal Wandsbek\, Am Alten Posthaus 4\, Hamburg\, Hamburg\, 22041\, Deutschland
END:VEVENT
END:VCALENDAR