BEGIN:VCALENDAR
VERSION:2.0
PRODID:-//LSB Hamburg - ECPv6.15.20//NONSGML v1.0//EN
CALSCALE:GREGORIAN
METHOD:PUBLISH
X-ORIGINAL-URL:https://www.lsb-hamburg.de
X-WR-CALDESC:Veranstaltungen für LSB Hamburg
REFRESH-INTERVAL;VALUE=DURATION:PT1H
X-Robots-Tag:noindex
X-PUBLISHED-TTL:PT1H
BEGIN:VTIMEZONE
TZID:Europe/Berlin
BEGIN:DAYLIGHT
TZOFFSETFROM:+0100
TZOFFSETTO:+0200
TZNAME:CEST
DTSTART:20230326T010000
END:DAYLIGHT
BEGIN:STANDARD
TZOFFSETFROM:+0200
TZOFFSETTO:+0100
TZNAME:CET
DTSTART:20231029T010000
END:STANDARD
BEGIN:DAYLIGHT
TZOFFSETFROM:+0100
TZOFFSETTO:+0200
TZNAME:CEST
DTSTART:20240331T010000
END:DAYLIGHT
BEGIN:STANDARD
TZOFFSETFROM:+0200
TZOFFSETTO:+0100
TZNAME:CET
DTSTART:20241027T010000
END:STANDARD
BEGIN:DAYLIGHT
TZOFFSETFROM:+0100
TZOFFSETTO:+0200
TZNAME:CEST
DTSTART:20250330T010000
END:DAYLIGHT
BEGIN:STANDARD
TZOFFSETFROM:+0200
TZOFFSETTO:+0100
TZNAME:CET
DTSTART:20251026T010000
END:STANDARD
END:VTIMEZONE
BEGIN:VEVENT
DTSTART;TZID=Europe/Berlin:20241001T100000
DTEND;TZID=Europe/Berlin:20241001T123000
DTSTAMP:20260424T174805
CREATED:20240226T102614Z
LAST-MODIFIED:20240822T091245Z
UID:2979-1727776800-1727785800@www.lsb-hamburg.de
SUMMARY:Festveranstaltung „Internationaler Tag der älteren Menschen“ im Bachsaal\, Gemeindehaus St. Michaelis
DESCRIPTION:Festveranstaltung „Internationaler Tag der älteren Menschen“ im Bachsaal\, Gemeindehaus St. Michaelis\, Englische Planke 1\, 20459 Hamburg \nProgramm der Festveranstaltung: LSB-Einladung Festveranstaltung 01.10.2024_ \nEinlass ab 9.30 Uhr\, Beginn um 10 Uhr \nWir bitten um Anmeldung beim Landes-Seniorenbeirat:\nTel. 040 – 428 37 – 1934 Mail: lsb@lsb-hamburg.de\nBei telefonischer Anmeldung bitte ggf. auf den Anrufbeantworter sprechen. Ihre Anmeldung ist damit erfolgt.
URL:https://www.lsb-hamburg.de/event/tag-der-aelteren-generation/
LOCATION:Bachsaal\, Gemeindehaus St. Michaelis\, Englische Planke 1\, 20459 Hamburg
ORGANIZER;CN="Landesseniorenbeirat Hamburg":MAILTO:lsb@lsb-hamburg.de
END:VEVENT
BEGIN:VEVENT
DTSTART;TZID=Europe/Berlin:20241008T100000
DTEND;TZID=Europe/Berlin:20241008T100000
DTSTAMP:20260424T174805
CREATED:20240902T114643Z
LAST-MODIFIED:20241007T044925Z
UID:3520-1728381600-1728381600@www.lsb-hamburg.de
SUMMARY:Öffentliche Plenumssitzung des BSB-Wandsbek "Bau der S4 durch Wandsbek"
DESCRIPTION:Öffentliche Plenumssitzung des BSB-Wandsbek \nDienstag\,  8. Oktober 2024 um 10 Uhr\nOrt: Bürgersaal Wandsbek\, Am Alten Posthaus 4 (gegenüber dem Bezirksamt\, Nähe U-Bahn und ZOB Wandsbek Markt). \nHauptthema:\nBau der S4 durch Wandsbek – aktuelle Mobilitätsprobleme und Anforderungen hinsichtlich künftiger Barrierefreiheit\nReferenten:\nHerr Michael Kablitz (Leiter Planung)\,\nFrau Elena Ahrens (Fachreferentin Stakeholdermanagement) vom Projekt S-Bahnlinie S4 der Deutschen Bahn \n 
URL:https://www.lsb-hamburg.de/event/oeffentliche-plenumssitzung-des-bsb-wandsbek-beschwerden-ueber-die-postzustellung-und-die-angekuendigte-schliessung-von-postdienststellen-und-bau-der-s4-durch-wandsbek/
LOCATION:Bürgersaal Wandsbek\, Am Alten Posthaus 4\, Hamburg\, Hamburg\, 22041\, Deutschland
END:VEVENT
BEGIN:VEVENT
DTSTART;TZID=Europe/Berlin:20241016T100000
DTEND;TZID=Europe/Berlin:20241016T123000
DTSTAMP:20260424T174805
CREATED:20240916T065056Z
LAST-MODIFIED:20240916T092013Z
UID:3391-1729072800-1729081800@www.lsb-hamburg.de
SUMMARY:Seniorendelegiertenversammlung Harburg "Neues von der Pflegeversicherung" und "29\,-€ Ticket für Senior:innen"
DESCRIPTION:Seniorendelegiertenversammlung Harburg \nThemen u.a. „Neues von der Pflegeversicherung“ und „29\,-€ Ticket für Senior:innen“ \nEinladung SDV Harburg 16.10.2024 \nSDV-Harburg 16.10.24_Vorlage 29 € Ticket \nDie Sitzung findet immer öffentlich statt. Bitte senden Sie diese Einladung an Interessierte weiter. \nOrt: Gemeindesaal der Johanniskirche\nBremer Straße 9\, 21073 Hamburg \n  \n 
URL:https://www.lsb-hamburg.de/event/oeffentliche-seniorendelegiertenversammlung-harburg-neues-von-der-pflegeversicherung-und-29-e-ticket-fuer-seniorinnen/
LOCATION:Gemeindesaal der Johanniskirche\, Bremer Str. 9\, Hamburg\, 21073
END:VEVENT
BEGIN:VEVENT
DTSTART;TZID=Europe/Berlin:20241018T100000
DTEND;TZID=Europe/Berlin:20241018T130000
DTSTAMP:20260424T174805
CREATED:20240830T053207Z
LAST-MODIFIED:20240830T053731Z
UID:3509-1729245600-1729256400@www.lsb-hamburg.de
SUMMARY:Trainingseinheiten für Rollifahrer*innen und Gehwagennutzer*innen
DESCRIPTION:Der ÖPNV-Trainer der LAG für behinderte Menschen bietet folgende Trainingseinheiten für Rollifahrer*innen und Gehwagennutzer*innen an: \n18. Oktober 2024  von 10:00 bis 13:00 Uhr in Harburg auf dem Rathausplatz in Kooperation mit der Behindertenarbeitsgemeinschaft und dem Seniorenbeirat
URL:https://www.lsb-hamburg.de/event/trainingseinheiten-fuer-rollifahrerinnen-und-gehwagennutzerinnen-4/
END:VEVENT
END:VCALENDAR