BEGIN:VCALENDAR
VERSION:2.0
PRODID:-//LSB Hamburg - ECPv6.15.20//NONSGML v1.0//EN
CALSCALE:GREGORIAN
METHOD:PUBLISH
X-WR-CALNAME:LSB Hamburg
X-ORIGINAL-URL:https://www.lsb-hamburg.de
X-WR-CALDESC:Veranstaltungen für LSB Hamburg
REFRESH-INTERVAL;VALUE=DURATION:PT1H
X-Robots-Tag:noindex
X-PUBLISHED-TTL:PT1H
BEGIN:VTIMEZONE
TZID:Europe/Berlin
BEGIN:DAYLIGHT
TZOFFSETFROM:+0100
TZOFFSETTO:+0200
TZNAME:CEST
DTSTART:20230326T010000
END:DAYLIGHT
BEGIN:STANDARD
TZOFFSETFROM:+0200
TZOFFSETTO:+0100
TZNAME:CET
DTSTART:20231029T010000
END:STANDARD
BEGIN:DAYLIGHT
TZOFFSETFROM:+0100
TZOFFSETTO:+0200
TZNAME:CEST
DTSTART:20240331T010000
END:DAYLIGHT
BEGIN:STANDARD
TZOFFSETFROM:+0200
TZOFFSETTO:+0100
TZNAME:CET
DTSTART:20241027T010000
END:STANDARD
BEGIN:DAYLIGHT
TZOFFSETFROM:+0100
TZOFFSETTO:+0200
TZNAME:CEST
DTSTART:20250330T010000
END:DAYLIGHT
BEGIN:STANDARD
TZOFFSETFROM:+0200
TZOFFSETTO:+0100
TZNAME:CET
DTSTART:20251026T010000
END:STANDARD
END:VTIMEZONE
BEGIN:VEVENT
DTSTART;TZID=Europe/Berlin:20240831T100000
DTEND;TZID=Europe/Berlin:20240831T130000
DTSTAMP:20260424T211312
CREATED:20240305T085426Z
LAST-MODIFIED:20240822T044848Z
UID:3022-1725098400-1725109200@www.lsb-hamburg.de
SUMMARY:Praxistraining in Bergedorf "Mit Rollator und Rollstuhl im Bus unterwegs" Praxistraining mit dem HVV 
DESCRIPTION:Bezirks-Seniorenbeirat Bergedorf – Praxistraining mit dem HVV \nSamstag\, den 31. August 2024 von 10 Uhr bis 13 Uhr in Lohbrügge\, Fußgängerfreifläche am Lohbrügger Markt \nFlyer mit weiteren Informationen: Praxistraining in Bergedorf 31.08.24_Mit Rollator und Rollstuhl im Bus unterwegs
URL:https://www.lsb-hamburg.de/event/bezirks-seniorenbeirat-bergedorf-praxistraining-mit-dem-hvv-2/
END:VEVENT
END:VCALENDAR