BEGIN:VCALENDAR
VERSION:2.0
PRODID:-//LSB Hamburg - ECPv6.15.20//NONSGML v1.0//EN
CALSCALE:GREGORIAN
METHOD:PUBLISH
X-WR-CALNAME:LSB Hamburg
X-ORIGINAL-URL:https://www.lsb-hamburg.de
X-WR-CALDESC:Veranstaltungen für LSB Hamburg
REFRESH-INTERVAL;VALUE=DURATION:PT1H
X-Robots-Tag:noindex
X-PUBLISHED-TTL:PT1H
BEGIN:VTIMEZONE
TZID:Europe/Berlin
BEGIN:DAYLIGHT
TZOFFSETFROM:+0100
TZOFFSETTO:+0200
TZNAME:CEST
DTSTART:20240331T010000
END:DAYLIGHT
BEGIN:STANDARD
TZOFFSETFROM:+0200
TZOFFSETTO:+0100
TZNAME:CET
DTSTART:20241027T010000
END:STANDARD
BEGIN:DAYLIGHT
TZOFFSETFROM:+0100
TZOFFSETTO:+0200
TZNAME:CEST
DTSTART:20250330T010000
END:DAYLIGHT
BEGIN:STANDARD
TZOFFSETFROM:+0200
TZOFFSETTO:+0100
TZNAME:CET
DTSTART:20251026T010000
END:STANDARD
BEGIN:DAYLIGHT
TZOFFSETFROM:+0100
TZOFFSETTO:+0200
TZNAME:CEST
DTSTART:20260329T010000
END:DAYLIGHT
BEGIN:STANDARD
TZOFFSETFROM:+0200
TZOFFSETTO:+0100
TZNAME:CET
DTSTART:20261025T010000
END:STANDARD
END:VTIMEZONE
BEGIN:VEVENT
DTSTART;VALUE=DATE:20250908
DTEND;VALUE=DATE:20250914
DTSTAMP:20260421T134356
CREATED:20250725T100744Z
LAST-MODIFIED:20250725T100744Z
UID:4383-1757289600-1757807999@www.lsb-hamburg.de
SUMMARY:Aktionswoche Altersfreundliche Bücherhallen
DESCRIPTION:Vom 8. bis 13. September 2025 findet zum zweiten Mal die Aktionswoche ‚Altersfreundliche Bücherhallen‘ statt. \nIn 14 verschiedenen Bücherhallen und der Zentralbibliothek gibt es über 35 spannende Veranstaltungen\, die sich gezielt an das Publikum 60+ richten. \nAlle Veranstaltungen sind kostenlos\, teils mit Anmeldung. \nEine Bücherhallen-Karte ist nicht nötig. \nAktionswoche altersfreundliche Bücherhallen_Flyer_2025
URL:https://www.lsb-hamburg.de/event/aktionswoche-altersfreundliche-buecherhallen/
END:VEVENT
BEGIN:VEVENT
DTSTART;TZID=Europe/Berlin:20250912T100000
DTEND;TZID=Europe/Berlin:20250912T130000
DTSTAMP:20260421T134356
CREATED:20250828T085336Z
LAST-MODIFIED:20250828T093508Z
UID:4450-1757671200-1757682000@www.lsb-hamburg.de
SUMMARY:Mobilitätstraining am VHH-Bus in Bergedorf
DESCRIPTION:Regelmäßig bietet der Bergedorfer Seniorenbeirat mit Kooperationspartnern ein Mobilitätstraining an\, bei dem an einem Linienbus das sichere Ein- und Aussteigen mit Rollator und Rollstuhl ausprobiert und geübt werden kann. Der nächste Termin findet am Freitag 12. September 2025 von 10 bis 13 Uhr vor der St. Petri und Pauli Kirche im Zentrum von Bergedorf statt. Kommen Sie vorbei!
URL:https://www.lsb-hamburg.de/event/mobilitaetstraining-am-vhh-bus-in-bergedorf/
END:VEVENT
END:VCALENDAR