BEGIN:VCALENDAR
VERSION:2.0
PRODID:-//LSB Hamburg - ECPv6.15.20//NONSGML v1.0//EN
CALSCALE:GREGORIAN
METHOD:PUBLISH
X-WR-CALNAME:LSB Hamburg
X-ORIGINAL-URL:https://www.lsb-hamburg.de
X-WR-CALDESC:Veranstaltungen für LSB Hamburg
REFRESH-INTERVAL;VALUE=DURATION:PT1H
X-Robots-Tag:noindex
X-PUBLISHED-TTL:PT1H
BEGIN:VTIMEZONE
TZID:Europe/Berlin
BEGIN:DAYLIGHT
TZOFFSETFROM:+0100
TZOFFSETTO:+0200
TZNAME:CEST
DTSTART:20240331T010000
END:DAYLIGHT
BEGIN:STANDARD
TZOFFSETFROM:+0200
TZOFFSETTO:+0100
TZNAME:CET
DTSTART:20241027T010000
END:STANDARD
BEGIN:DAYLIGHT
TZOFFSETFROM:+0100
TZOFFSETTO:+0200
TZNAME:CEST
DTSTART:20250330T010000
END:DAYLIGHT
BEGIN:STANDARD
TZOFFSETFROM:+0200
TZOFFSETTO:+0100
TZNAME:CET
DTSTART:20251026T010000
END:STANDARD
BEGIN:DAYLIGHT
TZOFFSETFROM:+0100
TZOFFSETTO:+0200
TZNAME:CEST
DTSTART:20260329T010000
END:DAYLIGHT
BEGIN:STANDARD
TZOFFSETFROM:+0200
TZOFFSETTO:+0100
TZNAME:CET
DTSTART:20261025T010000
END:STANDARD
END:VTIMEZONE
BEGIN:VEVENT
DTSTART;TZID=Europe/Berlin:20250127T101500
DTEND;TZID=Europe/Berlin:20250127T121500
DTSTAMP:20260424T123929
CREATED:20241209T063600Z
LAST-MODIFIED:20250101T145245Z
UID:3685-1737972900-1737980100@www.lsb-hamburg.de
SUMMARY:Gemeinsame Veranstaltung BSB- und SDV-Eimsbüttel im Eidelstedter Bürgerhaus
DESCRIPTION:Gemeinsame Veranstaltung BSB- und SDV-Eimsbüttel \nim Eidelstedter Bürgerhaus mit den Seniorenpolitischen Sprechern von SPD\, CDU\, Grünen und  der LINKEN \nFlyer BSB u SDV Eimsbüttel_Veranstaltung am 27Jan zur Bürgerschaftswahl_web
URL:https://www.lsb-hamburg.de/event/gemeinsame-veranstaltung-bsb-und-sdv-eimsbuettel-im-eidelstedter-buergerhaus/
END:VEVENT
END:VCALENDAR