BEGIN:VCALENDAR
VERSION:2.0
PRODID:-//LSB Hamburg - ECPv6.15.20//NONSGML v1.0//EN
CALSCALE:GREGORIAN
METHOD:PUBLISH
X-ORIGINAL-URL:https://www.lsb-hamburg.de
X-WR-CALDESC:Veranstaltungen für LSB Hamburg
REFRESH-INTERVAL;VALUE=DURATION:PT1H
X-Robots-Tag:noindex
X-PUBLISHED-TTL:PT1H
BEGIN:VTIMEZONE
TZID:Europe/Berlin
BEGIN:DAYLIGHT
TZOFFSETFROM:+0100
TZOFFSETTO:+0200
TZNAME:CEST
DTSTART:20240331T010000
END:DAYLIGHT
BEGIN:STANDARD
TZOFFSETFROM:+0200
TZOFFSETTO:+0100
TZNAME:CET
DTSTART:20241027T010000
END:STANDARD
BEGIN:DAYLIGHT
TZOFFSETFROM:+0100
TZOFFSETTO:+0200
TZNAME:CEST
DTSTART:20250330T010000
END:DAYLIGHT
BEGIN:STANDARD
TZOFFSETFROM:+0200
TZOFFSETTO:+0100
TZNAME:CET
DTSTART:20251026T010000
END:STANDARD
BEGIN:DAYLIGHT
TZOFFSETFROM:+0100
TZOFFSETTO:+0200
TZNAME:CEST
DTSTART:20260329T010000
END:DAYLIGHT
BEGIN:STANDARD
TZOFFSETFROM:+0200
TZOFFSETTO:+0100
TZNAME:CET
DTSTART:20261025T010000
END:STANDARD
END:VTIMEZONE
BEGIN:VEVENT
DTSTART;TZID=Europe/Berlin:20250122T163000
DTEND;TZID=Europe/Berlin:20250122T183000
DTSTAMP:20260424T142545
CREATED:20241218T064030Z
LAST-MODIFIED:20250107T115912Z
UID:3733-1737563400-1737570600@www.lsb-hamburg.de
SUMMARY:Öffentliche Veranstaltung BSB- und SDV-Altona zum Thema „Bürgerschaftswahl in Hamburg am 02.03.25“
DESCRIPTION:Öffentliche Veranstaltung BSB- und SDV-Altona zum Thema „Bürgerschaftswahl in Hamburg am 02.03.25“ \nEs wird um eine Anmeldung bis 18.01.2025 gebeten per E-Mail: ilona-schulz-mueller@web.de oder telefonisch unter 0170 9108744. \nEinladung BSB- und SDV-Altona \nDigital_Fragen_boehnert_V4 \nFragen Armut endg \nSDV Verkehr endg \nWahlprüfstein HmbSenmitwG SI 2 \nWahlprüfstein Politische Bildung \n  \n  \n  \n  \n  \n 
URL:https://www.lsb-hamburg.de/event/seniorendelegiertenversammlung-altona-2/
LOCATION:Bürgerhaus Bornheide\, Bornheide 76 e\, Oranges Haus\, 22549 Hamburg
END:VEVENT
END:VCALENDAR