BEGIN:VCALENDAR
VERSION:2.0
PRODID:-//LSB Hamburg - ECPv6.15.20//NONSGML v1.0//EN
CALSCALE:GREGORIAN
METHOD:PUBLISH
X-WR-CALNAME:LSB Hamburg
X-ORIGINAL-URL:https://www.lsb-hamburg.de
X-WR-CALDESC:Veranstaltungen für LSB Hamburg
REFRESH-INTERVAL;VALUE=DURATION:PT1H
X-Robots-Tag:noindex
X-PUBLISHED-TTL:PT1H
BEGIN:VTIMEZONE
TZID:Europe/Berlin
BEGIN:DAYLIGHT
TZOFFSETFROM:+0100
TZOFFSETTO:+0200
TZNAME:CEST
DTSTART:20240331T010000
END:DAYLIGHT
BEGIN:STANDARD
TZOFFSETFROM:+0200
TZOFFSETTO:+0100
TZNAME:CET
DTSTART:20241027T010000
END:STANDARD
BEGIN:DAYLIGHT
TZOFFSETFROM:+0100
TZOFFSETTO:+0200
TZNAME:CEST
DTSTART:20250330T010000
END:DAYLIGHT
BEGIN:STANDARD
TZOFFSETFROM:+0200
TZOFFSETTO:+0100
TZNAME:CET
DTSTART:20251026T010000
END:STANDARD
BEGIN:DAYLIGHT
TZOFFSETFROM:+0100
TZOFFSETTO:+0200
TZNAME:CEST
DTSTART:20260329T010000
END:DAYLIGHT
BEGIN:STANDARD
TZOFFSETFROM:+0200
TZOFFSETTO:+0100
TZNAME:CET
DTSTART:20261025T010000
END:STANDARD
END:VTIMEZONE
BEGIN:VEVENT
DTSTART;TZID=Europe/Berlin:20250114T100000
DTEND;TZID=Europe/Berlin:20250114T120000
DTSTAMP:20260424T143223
CREATED:20241121T064631Z
LAST-MODIFIED:20250106T124117Z
UID:3642-1736848800-1736856000@www.lsb-hamburg.de
SUMMARY:Gemeinsame Veranstaltung der Seniorendelegiertenversammlung Wandsbek und des Bezirks-Seniorenbeirats zum Thema "Nominierung und Neuwahl der Interessenvertretungen der Seniorinnen und Senioren in Wandsbek"
DESCRIPTION:Gemeinsame Veranstaltung der Seniorendelegiertenversammlung Wandsbek und des Bezirks-Seniorenbeirats zum Thema \n„Benennung und Neuwahl der Interessenvertretungen der Seniorinnen und Senioren in Wandsbek“\nInformationen zur anstehenden Nominierung von Seniorendelegierten für die Amtszeit 2025 bis 2029 und zu Themen und Mitarbeitsmöglichkeiten der Seniorenvertretungen. \nOrt: Bürgersaal Wandsbek\, Am Alten Posthaus 4 (gegenüber dem Bezirksamt\, Nähe U-Bahn und ZOB Wandsbek Markt).
URL:https://www.lsb-hamburg.de/event/gemeinsame-veranstaltung-der-seniorendelegiertenversammlung-wandsbek-und-des-bezirks-seniorenbeirats-zum-thema-nominierung-und-neuwahl-der-interessenvertretungen-der-seniorinnen-und-senioren-in-wand/
LOCATION:Bürgersaal Wandsbek\, Am Alten Posthaus 4\, Hamburg\, Hamburg\, 22041\, Deutschland
END:VEVENT
END:VCALENDAR