BEGIN:VCALENDAR
VERSION:2.0
PRODID:-//LSB Hamburg - ECPv6.15.20//NONSGML v1.0//EN
CALSCALE:GREGORIAN
METHOD:PUBLISH
X-ORIGINAL-URL:https://www.lsb-hamburg.de
X-WR-CALDESC:Veranstaltungen für LSB Hamburg
REFRESH-INTERVAL;VALUE=DURATION:PT1H
X-Robots-Tag:noindex
X-PUBLISHED-TTL:PT1H
BEGIN:VTIMEZONE
TZID:Europe/Berlin
BEGIN:DAYLIGHT
TZOFFSETFROM:+0100
TZOFFSETTO:+0200
TZNAME:CEST
DTSTART:20230326T010000
END:DAYLIGHT
BEGIN:STANDARD
TZOFFSETFROM:+0200
TZOFFSETTO:+0100
TZNAME:CET
DTSTART:20231029T010000
END:STANDARD
BEGIN:DAYLIGHT
TZOFFSETFROM:+0100
TZOFFSETTO:+0200
TZNAME:CEST
DTSTART:20240331T010000
END:DAYLIGHT
BEGIN:STANDARD
TZOFFSETFROM:+0200
TZOFFSETTO:+0100
TZNAME:CET
DTSTART:20241027T010000
END:STANDARD
BEGIN:DAYLIGHT
TZOFFSETFROM:+0100
TZOFFSETTO:+0200
TZNAME:CEST
DTSTART:20250330T010000
END:DAYLIGHT
BEGIN:STANDARD
TZOFFSETFROM:+0200
TZOFFSETTO:+0100
TZNAME:CET
DTSTART:20251026T010000
END:STANDARD
END:VTIMEZONE
BEGIN:VEVENT
DTSTART;TZID=Europe/Berlin:20241118T100000
DTEND;TZID=Europe/Berlin:20241118T120000
DTSTAMP:20260424T174720
CREATED:20240716T084317Z
LAST-MODIFIED:20241023T061517Z
UID:3411-1731924000-1731931200@www.lsb-hamburg.de
SUMMARY:Seniorendelegiertenversammlung Bergedorf "Wie kann die digitale Teilhabe auch zur Vermeidung von Einsamkeit eingesetzt werden?" mit Dagmar Hirche - Wege aus der Einsamkeit e.V.
DESCRIPTION:Seniorendelegiertenversammlung Bergedorf \nGast: Frau Dagmar Hirche\, 1. Vorsitzende – Wege aus der Einsamkeit e.V. und Trägerin des Bundesverdienstkreuzes mit dem Thema „Digitale Teilhabe von Menschen 65+ und wie kann die digitale Teilhabe auch zur Vermeidung von Einsamkeit eingesetzt werden?“ \nEinladung SDV-Bergedorf 18.11.24
URL:https://www.lsb-hamburg.de/event/seniorendelegiertenversammlung-bergedorf-3/
LOCATION:KörberHaus\, Raum 213/214 (2. Etage)\, Holzhude 1\, 21029 Hamburg
END:VEVENT
END:VCALENDAR