BEGIN:VCALENDAR
VERSION:2.0
PRODID:-//LSB Hamburg - ECPv6.15.20//NONSGML v1.0//EN
CALSCALE:GREGORIAN
METHOD:PUBLISH
X-ORIGINAL-URL:https://www.lsb-hamburg.de
X-WR-CALDESC:Veranstaltungen für LSB Hamburg
REFRESH-INTERVAL;VALUE=DURATION:PT1H
X-Robots-Tag:noindex
X-PUBLISHED-TTL:PT1H
BEGIN:VTIMEZONE
TZID:Europe/Berlin
BEGIN:DAYLIGHT
TZOFFSETFROM:+0100
TZOFFSETTO:+0200
TZNAME:CEST
DTSTART:20230326T010000
END:DAYLIGHT
BEGIN:STANDARD
TZOFFSETFROM:+0200
TZOFFSETTO:+0100
TZNAME:CET
DTSTART:20231029T010000
END:STANDARD
BEGIN:DAYLIGHT
TZOFFSETFROM:+0100
TZOFFSETTO:+0200
TZNAME:CEST
DTSTART:20240331T010000
END:DAYLIGHT
BEGIN:STANDARD
TZOFFSETFROM:+0200
TZOFFSETTO:+0100
TZNAME:CET
DTSTART:20241027T010000
END:STANDARD
BEGIN:DAYLIGHT
TZOFFSETFROM:+0100
TZOFFSETTO:+0200
TZNAME:CEST
DTSTART:20250330T010000
END:DAYLIGHT
BEGIN:STANDARD
TZOFFSETFROM:+0200
TZOFFSETTO:+0100
TZNAME:CET
DTSTART:20251026T010000
END:STANDARD
END:VTIMEZONE
BEGIN:VEVENT
DTSTART;TZID=Europe/Berlin:20241008T100000
DTEND;TZID=Europe/Berlin:20241008T100000
DTSTAMP:20260424T192918
CREATED:20240902T114643Z
LAST-MODIFIED:20241007T044925Z
UID:3520-1728381600-1728381600@www.lsb-hamburg.de
SUMMARY:Öffentliche Plenumssitzung des BSB-Wandsbek "Bau der S4 durch Wandsbek"
DESCRIPTION:Öffentliche Plenumssitzung des BSB-Wandsbek \nDienstag\,  8. Oktober 2024 um 10 Uhr\nOrt: Bürgersaal Wandsbek\, Am Alten Posthaus 4 (gegenüber dem Bezirksamt\, Nähe U-Bahn und ZOB Wandsbek Markt). \nHauptthema:\nBau der S4 durch Wandsbek – aktuelle Mobilitätsprobleme und Anforderungen hinsichtlich künftiger Barrierefreiheit\nReferenten:\nHerr Michael Kablitz (Leiter Planung)\,\nFrau Elena Ahrens (Fachreferentin Stakeholdermanagement) vom Projekt S-Bahnlinie S4 der Deutschen Bahn \n 
URL:https://www.lsb-hamburg.de/event/oeffentliche-plenumssitzung-des-bsb-wandsbek-beschwerden-ueber-die-postzustellung-und-die-angekuendigte-schliessung-von-postdienststellen-und-bau-der-s4-durch-wandsbek/
LOCATION:Bürgersaal Wandsbek\, Am Alten Posthaus 4\, Hamburg\, Hamburg\, 22041\, Deutschland
END:VEVENT
END:VCALENDAR