BEGIN:VCALENDAR
VERSION:2.0
PRODID:-//LSB Hamburg - ECPv6.15.20//NONSGML v1.0//EN
CALSCALE:GREGORIAN
METHOD:PUBLISH
X-WR-CALNAME:LSB Hamburg
X-ORIGINAL-URL:https://www.lsb-hamburg.de
X-WR-CALDESC:Veranstaltungen für LSB Hamburg
REFRESH-INTERVAL;VALUE=DURATION:PT1H
X-Robots-Tag:noindex
X-PUBLISHED-TTL:PT1H
BEGIN:VTIMEZONE
TZID:Europe/Berlin
BEGIN:DAYLIGHT
TZOFFSETFROM:+0100
TZOFFSETTO:+0200
TZNAME:CEST
DTSTART:20230326T010000
END:DAYLIGHT
BEGIN:STANDARD
TZOFFSETFROM:+0200
TZOFFSETTO:+0100
TZNAME:CET
DTSTART:20231029T010000
END:STANDARD
BEGIN:DAYLIGHT
TZOFFSETFROM:+0100
TZOFFSETTO:+0200
TZNAME:CEST
DTSTART:20240331T010000
END:DAYLIGHT
BEGIN:STANDARD
TZOFFSETFROM:+0200
TZOFFSETTO:+0100
TZNAME:CET
DTSTART:20241027T010000
END:STANDARD
BEGIN:DAYLIGHT
TZOFFSETFROM:+0100
TZOFFSETTO:+0200
TZNAME:CEST
DTSTART:20250330T010000
END:DAYLIGHT
BEGIN:STANDARD
TZOFFSETFROM:+0200
TZOFFSETTO:+0100
TZNAME:CET
DTSTART:20251026T010000
END:STANDARD
END:VTIMEZONE
BEGIN:VEVENT
DTSTART;VALUE=DATE:20240921
DTEND;VALUE=DATE:20240929
DTSTAMP:20260424T211204
CREATED:20240816T074006Z
LAST-MODIFIED:20240816T074440Z
UID:3465-1726876800-1727567999@www.lsb-hamburg.de
SUMMARY:Aktionstage Demenz 21. bis 28. September 2024 in Hamburg "Demenz - Gemeinsam. Mutig. Leben."
DESCRIPTION:Landesinitiative Leben mit Demenz \n„Demenz – Gemeinsam. Mutig. Leben.“ \nAktionstage Demenz 21. bis 28. September 2024 \nOrt: Aktionen in ganz Hamburg \nDas Programm der Aktionswoche finden Sie hier:  Programm der Aktionstage Demenz 2024 \n 
URL:https://www.lsb-hamburg.de/event/demenz-gemeinsam-mutig-leben-aktionstage-demenz-21-bis-28-september-2024/
END:VEVENT
END:VCALENDAR