BEGIN:VCALENDAR
VERSION:2.0
PRODID:-//LSB Hamburg - ECPv6.15.20//NONSGML v1.0//EN
CALSCALE:GREGORIAN
METHOD:PUBLISH
X-ORIGINAL-URL:https://www.lsb-hamburg.de
X-WR-CALDESC:Veranstaltungen für LSB Hamburg
REFRESH-INTERVAL;VALUE=DURATION:PT1H
X-Robots-Tag:noindex
X-PUBLISHED-TTL:PT1H
BEGIN:VTIMEZONE
TZID:Europe/Berlin
BEGIN:DAYLIGHT
TZOFFSETFROM:+0100
TZOFFSETTO:+0200
TZNAME:CEST
DTSTART:20230326T010000
END:DAYLIGHT
BEGIN:STANDARD
TZOFFSETFROM:+0200
TZOFFSETTO:+0100
TZNAME:CET
DTSTART:20231029T010000
END:STANDARD
BEGIN:DAYLIGHT
TZOFFSETFROM:+0100
TZOFFSETTO:+0200
TZNAME:CEST
DTSTART:20240331T010000
END:DAYLIGHT
BEGIN:STANDARD
TZOFFSETFROM:+0200
TZOFFSETTO:+0100
TZNAME:CET
DTSTART:20241027T010000
END:STANDARD
BEGIN:DAYLIGHT
TZOFFSETFROM:+0100
TZOFFSETTO:+0200
TZNAME:CEST
DTSTART:20250330T010000
END:DAYLIGHT
BEGIN:STANDARD
TZOFFSETFROM:+0200
TZOFFSETTO:+0100
TZNAME:CET
DTSTART:20251026T010000
END:STANDARD
END:VTIMEZONE
BEGIN:VEVENT
DTSTART;VALUE=DATE:20240906
DTEND;VALUE=DATE:20240915
DTSTAMP:20260424T225637
CREATED:20240830T080326Z
LAST-MODIFIED:20240830T081002Z
UID:3512-1725580800-1726358399@www.lsb-hamburg.de
SUMMARY:"Die Hamburger Wohnstifte stellen sich vor!" 06. bis 14. September 2024
DESCRIPTION:Die Hamburger Wohnstifte stellen sich vor!  – vom 06. bis 14. September 2024 \nMit vier spannenden Rundgängen und einer interessanten Rundfahrt beteiligt sich das Hamburger Bündnis für Wohnstifte an den diesjährigen Stiftungstagen\, die vom 06. bis 14. September 2024 unter dem Motto „Vielfalt vereint“ stadtweit stattfinden. Ihre Wohneinrichtungen für interessante Einblicke öffnen in diesem Jahr unsere Bündnismitglieder: Heinrich und Caroline Köster-Stiftung\, Hospital zum Heiligen Geist\, Hartwig-Hesse-Stiftung und Amalie Sieveking-Stiftung\, Albert Hackmann-Stiftung und Vaterstädtische Stiftung sowie die Behrens-Stiftung. \nPRESSE-INFORMATION Hamburger Bündnis fuer Wohnstifte_Stiftungstage 2024
URL:https://www.lsb-hamburg.de/event/die-hamburger-wohnstifte-stellen-sich-vor-vom-06-bis-14-september-2024/
END:VEVENT
BEGIN:VEVENT
DTSTART;TZID=Europe/Berlin:20240911T100000
DTEND;TZID=Europe/Berlin:20240912T130000
DTSTAMP:20260424T225637
CREATED:20240710T072149Z
LAST-MODIFIED:20240813T093055Z
UID:3397-1726048800-1726146000@www.lsb-hamburg.de
SUMMARY:Altonaer Seniorentage 11.09.24 Bürgerhaus Bornheide "Mobilität" / 12.09.24 Elbschifffahrt mit der „MS La Paloma“
DESCRIPTION:33. Altonaer Seniorentage 11. – 12.09.24 \nMittwoch\, 11. September 2024\n10.00 – 13.30 Uhr\nBürgerhaus Bornheide\nBornheide 76\, Rotes Haus\n22549 Hamburg \nDonnerstag\, 12. September 2024\n10.45 – 13.00 Uhr\nElbschifffahrt mit der „MS La Paloma“\nLandungsbrücken 8 – 10\n20359 Hamburg \nFahrpreis: 14\,- Euro\nKarten-Vorbestellungen unter 040 31 79 09 23 oder am 11. September 2024 am BSB-Stand im Bürgerhaus Bornheide; evtl. Restkarten am Schiff. Die „MS La Paloma“ ist barrierefrei! \nWeitere Informationen:\nBSB-Altona_Seniorentage2024_\nFaltblattPlakat-AltonaerSeniorentage2024
URL:https://www.lsb-hamburg.de/event/33-altonaer-seniorentage/
LOCATION:Bürgerhaus Bornheide\, Bornheide 76 e\, Oranges Haus\, 22549 Hamburg
END:VEVENT
END:VCALENDAR