BEGIN:VCALENDAR
VERSION:2.0
PRODID:-//LSB Hamburg - ECPv6.15.20//NONSGML v1.0//EN
CALSCALE:GREGORIAN
METHOD:PUBLISH
X-ORIGINAL-URL:https://www.lsb-hamburg.de
X-WR-CALDESC:Veranstaltungen für LSB Hamburg
REFRESH-INTERVAL;VALUE=DURATION:PT1H
X-Robots-Tag:noindex
X-PUBLISHED-TTL:PT1H
BEGIN:VTIMEZONE
TZID:Europe/Berlin
BEGIN:DAYLIGHT
TZOFFSETFROM:+0100
TZOFFSETTO:+0200
TZNAME:CEST
DTSTART:20230326T010000
END:DAYLIGHT
BEGIN:STANDARD
TZOFFSETFROM:+0200
TZOFFSETTO:+0100
TZNAME:CET
DTSTART:20231029T010000
END:STANDARD
BEGIN:DAYLIGHT
TZOFFSETFROM:+0100
TZOFFSETTO:+0200
TZNAME:CEST
DTSTART:20240331T010000
END:DAYLIGHT
BEGIN:STANDARD
TZOFFSETFROM:+0200
TZOFFSETTO:+0100
TZNAME:CET
DTSTART:20241027T010000
END:STANDARD
BEGIN:DAYLIGHT
TZOFFSETFROM:+0100
TZOFFSETTO:+0200
TZNAME:CEST
DTSTART:20250330T010000
END:DAYLIGHT
BEGIN:STANDARD
TZOFFSETFROM:+0200
TZOFFSETTO:+0100
TZNAME:CET
DTSTART:20251026T010000
END:STANDARD
END:VTIMEZONE
BEGIN:VEVENT
DTSTART;TZID=Europe/Berlin:20240730T183000
DTEND;TZID=Europe/Berlin:20240730T203000
DTSTAMP:20260424T225422
CREATED:20240719T092942Z
LAST-MODIFIED:20240722T093945Z
UID:3419-1722364200-1722371400@www.lsb-hamburg.de
SUMMARY:Pride Week: Einladung zur Veranstaltung „LSBTI Pflegesiegel – macht Hamburg sich jetzt auf den Weg?“
DESCRIPTION:Pride Week: Einladung zur Veranstaltung „LSBTI Pflegesiegel – macht Hamburg sich jetzt auf den Weg?“ \nÄlterwerden in der queeren Community ist noch immer ein Tabuthema. Während sich in Berlin\, München und Frankfurt schon Träger der Pflege und des Seniorenwohnens auf den Weg gemacht haben\, steht Hamburg noch ganz am Anfang. Doch gerade für eine LSBTI-sensible Pflege wird der Bedarf mit der in den Ruhestand tretenden Babyboomer-Generation nun massiv steigen…was tun? \nEine Einladung sowie weitere Informationen finden Sie hier: Einladung Veranstaltung Pride Week 30.07.24 \n 
URL:https://www.lsb-hamburg.de/event/pride-week-einladung-zur-veranstaltung-lsbti-pflegesiegel-macht-hamburg-sich-jetzt-auf-den-weg/
LOCATION:Integrations- und Familienzentrum (IFZ) und Kinder-\, Jugend- u. Familieneinrichtung SCHORSCH) (im großen Raum)\, Rostocker Straße 7\, 20099 Hamburg
END:VEVENT
END:VCALENDAR